BEGIN:VCALENDAR
VERSION:2.0
PRODID:-//Burnout-Netzwerk - ECPv6.15.20//NONSGML v1.0//EN
CALSCALE:GREGORIAN
METHOD:PUBLISH
X-ORIGINAL-URL:https://burnoutnetzwerk.de
X-WR-CALDESC:Veranstaltungen für Burnout-Netzwerk
REFRESH-INTERVAL;VALUE=DURATION:PT1H
X-Robots-Tag:noindex
X-PUBLISHED-TTL:PT1H
BEGIN:VTIMEZONE
TZID:Europe/Berlin
BEGIN:DAYLIGHT
TZOFFSETFROM:+0100
TZOFFSETTO:+0200
TZNAME:CEST
DTSTART:20240331T010000
END:DAYLIGHT
BEGIN:STANDARD
TZOFFSETFROM:+0200
TZOFFSETTO:+0100
TZNAME:CET
DTSTART:20241027T010000
END:STANDARD
BEGIN:DAYLIGHT
TZOFFSETFROM:+0100
TZOFFSETTO:+0200
TZNAME:CEST
DTSTART:20250330T010000
END:DAYLIGHT
BEGIN:STANDARD
TZOFFSETFROM:+0200
TZOFFSETTO:+0100
TZNAME:CET
DTSTART:20251026T010000
END:STANDARD
BEGIN:DAYLIGHT
TZOFFSETFROM:+0100
TZOFFSETTO:+0200
TZNAME:CEST
DTSTART:20260329T010000
END:DAYLIGHT
BEGIN:STANDARD
TZOFFSETFROM:+0200
TZOFFSETTO:+0100
TZNAME:CET
DTSTART:20261025T010000
END:STANDARD
END:VTIMEZONE
BEGIN:VEVENT
DTSTART;TZID=Europe/Berlin:20250520T080000
DTEND;TZID=Europe/Berlin:20250520T093000
DTSTAMP:20260420T211538
CREATED:20250507T095242Z
LAST-MODIFIED:20250507T095242Z
UID:15802-1747728000-1747733400@burnoutnetzwerk.de
SUMMARY:Digital Advertising and Microbusinesses: Daily Business Relevance and a Driver of EU Competitiveness
DESCRIPTION:Save the date for our upcoming working breakfast discussion on “Digital Advertising and Microbusinesses: Daily Business Relevance and a Driver of EU Competitiveness”\, hosted by Marion Walsmann MEP. The event will take place on Tuesday\, 20 May at 8:00 AM CET (90 MIN) at the European Parliament in Brussels. \nThis SME Connect Digital Tools Platform Episode will focus on how digital advertising empowers Europe’s smallest businesses to stay visible\, competitive and resilient in a digital economy. \nAn exclusive preview into the new study by the Implement Consulting Group and Dr. Antonin Bergeaud (HEC Paris)\, commissioned by Google\, will offer fresh insights into how micro-entrepreneurs use digital advertising\, its economic significance and its impact on growth and business development. Policymakers and practitioners will explore the broader role of digital advertising within the EU’s economic agenda and how policy can better reflect the needs of microbusinesses relying on accessible\, cost-effective solutions. \nThis exchange aims to provide a grounded\, practical perspective on digital competitiveness — highlighting what’s working\, where obstacles remain\, and how future policy can better support the smallest players in Europe’s economy. \nRegistration at info@burnout-netzwerk.de
URL:https://burnoutnetzwerk.de/event/digital-advertising-and-microbusinesses-daily-business-relevance-and-a-driver-of-eu-competitiveness/
LOCATION:European Parliament\, Brussels\, Rue Wiertz 60\, Bruxelles\, 1047\, Belgium
CATEGORIES:Partner Veranstaltungen
ATTACH;FMTTYPE=image/webp:https://burnoutnetzwerk.de/wp-content/uploads/2025/05/unnamed.webp
ORGANIZER;CN="SME CONNECT Europa x Burnout-Netzwerk":MAILTO:info@burnout-netzwerk.de
END:VEVENT
END:VCALENDAR